BEGIN:VCALENDAR
VERSION:2.0
PRODID:-//Fenway Community Center - ECPv6.15.20//NONSGML v1.0//EN
CALSCALE:GREGORIAN
METHOD:PUBLISH
X-WR-CALNAME:Fenway Community Center
X-ORIGINAL-URL:https://fenwaycommunitycenter.org
X-WR-CALDESC:Events for Fenway Community Center
REFRESH-INTERVAL;VALUE=DURATION:PT1H
X-Robots-Tag:noindex
X-PUBLISHED-TTL:PT1H
BEGIN:VTIMEZONE
TZID:America/New_York
BEGIN:DAYLIGHT
TZOFFSETFROM:-0500
TZOFFSETTO:-0400
TZNAME:EDT
DTSTART:20250309T070000
END:DAYLIGHT
BEGIN:STANDARD
TZOFFSETFROM:-0400
TZOFFSETTO:-0500
TZNAME:EST
DTSTART:20251102T060000
END:STANDARD
BEGIN:DAYLIGHT
TZOFFSETFROM:-0500
TZOFFSETTO:-0400
TZNAME:EDT
DTSTART:20260308T070000
END:DAYLIGHT
BEGIN:STANDARD
TZOFFSETFROM:-0400
TZOFFSETTO:-0500
TZNAME:EST
DTSTART:20261101T060000
END:STANDARD
BEGIN:DAYLIGHT
TZOFFSETFROM:-0500
TZOFFSETTO:-0400
TZNAME:EDT
DTSTART:20270314T070000
END:DAYLIGHT
BEGIN:STANDARD
TZOFFSETFROM:-0400
TZOFFSETTO:-0500
TZNAME:EST
DTSTART:20271107T060000
END:STANDARD
END:VTIMEZONE
BEGIN:VEVENT
DTSTART;TZID=America/New_York:20260120T100000
DTEND;TZID=America/New_York:20260120T120000
DTSTAMP:20260423T053304
CREATED:20260114T224222Z
LAST-MODIFIED:20260114T224223Z
UID:10010288-1768903200-1768910400@fenwaycommunitycenter.org
SUMMARY:Open Play w/ Viking Sports
DESCRIPTION:Check out our Open Play hours\, featuring a bounce house\, mini sport activities\, and a personal coach to keep kids active and having fun\, brought to you by Viking Sports! \nShare this:\n				Share on Facebook (Opens in new window)\n				Facebook\n			\n				Share on X (Opens in new window)\n				X\n			\n				Share on LinkedIn (Opens in new window)\n				LinkedIn\n			More\n				Email a link to a friend (Opens in new window)\n				Email
URL:https://fenwaycommunitycenter.org/calendar/open-play-w-viking-sports-6/
LOCATION:Fenway Community Center\, 1282 Boylston St #123\, Boston\, MA\, 02115\, United States
ATTACH;FMTTYPE=image/png:https://fenwaycommunitycenter.org/wp-content/uploads/2025/12/Open-Play-with-Viking-Sports-jan-feb-2026.png
END:VEVENT
BEGIN:VEVENT
DTSTART;TZID=America/New_York:20260120T170000
DTEND;TZID=America/New_York:20260120T180000
DTSTAMP:20260423T053304
CREATED:20260105T214447Z
LAST-MODIFIED:20260302T162722Z
UID:10010696-1768928400-1768932000@fenwaycommunitycenter.org
SUMMARY:Slow Flow Yoga
DESCRIPTION:Join us at the Center for some guided instructional slow flow yoga with the Boston Yoga Collaborative. No experience needed. Please note this class will include floor exercises on a mat (mat included). This program is thanks to the generous support of Berklee College of Music. \nWalk-ins welcome or register here. \nShare this:\n				Share on Facebook (Opens in new window)\n				Facebook\n			\n				Share on X (Opens in new window)\n				X\n			\n				Share on LinkedIn (Opens in new window)\n				LinkedIn\n			More\n				Email a link to a friend (Opens in new window)\n				Email
URL:https://fenwaycommunitycenter.org/calendar/slow-flow-yoga-7/2026-01-20/
LOCATION:Fenway Community Center\, 1282 Boylston St #123\, Boston\, MA\, 02115\, United States
CATEGORIES:Health & Wellness
ATTACH;FMTTYPE=image/png:https://fenwaycommunitycenter.org/wp-content/uploads/2026/01/Digitial.png
END:VEVENT
END:VCALENDAR