BEGIN:VCALENDAR
VERSION:2.0
PRODID:-//Fenway Community Center - ECPv6.15.20//NONSGML v1.0//EN
CALSCALE:GREGORIAN
METHOD:PUBLISH
X-WR-CALNAME:Fenway Community Center
X-ORIGINAL-URL:https://fenwaycommunitycenter.org
X-WR-CALDESC:Events for Fenway Community Center
REFRESH-INTERVAL;VALUE=DURATION:PT1H
X-Robots-Tag:noindex
X-PUBLISHED-TTL:PT1H
BEGIN:VTIMEZONE
TZID:America/New_York
BEGIN:DAYLIGHT
TZOFFSETFROM:-0500
TZOFFSETTO:-0400
TZNAME:EDT
DTSTART:20250309T070000
END:DAYLIGHT
BEGIN:STANDARD
TZOFFSETFROM:-0400
TZOFFSETTO:-0500
TZNAME:EST
DTSTART:20251102T060000
END:STANDARD
BEGIN:DAYLIGHT
TZOFFSETFROM:-0500
TZOFFSETTO:-0400
TZNAME:EDT
DTSTART:20260308T070000
END:DAYLIGHT
BEGIN:STANDARD
TZOFFSETFROM:-0400
TZOFFSETTO:-0500
TZNAME:EST
DTSTART:20261101T060000
END:STANDARD
BEGIN:DAYLIGHT
TZOFFSETFROM:-0500
TZOFFSETTO:-0400
TZNAME:EDT
DTSTART:20270314T070000
END:DAYLIGHT
BEGIN:STANDARD
TZOFFSETFROM:-0400
TZOFFSETTO:-0500
TZNAME:EST
DTSTART:20271107T060000
END:STANDARD
END:VTIMEZONE
BEGIN:VEVENT
DTSTART;TZID=America/New_York:20260127T100000
DTEND;TZID=America/New_York:20260127T120000
DTSTAMP:20260421T070830
CREATED:20260114T181311Z
LAST-MODIFIED:20260213T182336Z
UID:10010289-1769508000-1769515200@fenwaycommunitycenter.org
SUMMARY:Open Play w/ Viking Sports
DESCRIPTION:Check out our Open Play hours\, featuring a bounce house\, mini sport activities\, and a personal coach to keep kids active and having fun\, brought to you by Viking Sports! \nShare this:\n				Share on Facebook (Opens in new window)\n				Facebook\n			\n				Share on X (Opens in new window)\n				X\n			\n				Share on LinkedIn (Opens in new window)\n				LinkedIn\n			More\n				Email a link to a friend (Opens in new window)\n				Email
URL:https://fenwaycommunitycenter.org/calendar/open-play-w-viking-sports-2/2026-01-27/
LOCATION:Fenway Community Center\, 1282 Boylston St #123\, Boston\, MA\, 02115\, United States
CATEGORIES:Youth & Family
ATTACH;FMTTYPE=image/png:https://fenwaycommunitycenter.org/wp-content/uploads/2025/12/Open-Play-with-Viking-Sports-jan-2026.png
END:VEVENT
BEGIN:VEVENT
DTSTART;TZID=America/New_York:20260127T180000
DTEND;TZID=America/New_York:20260127T200000
DTSTAMP:20260421T070830
CREATED:20260106T160705Z
LAST-MODIFIED:20260106T160705Z
UID:10010762-1769536800-1769544000@fenwaycommunitycenter.org
SUMMARY:Center Cinema
DESCRIPTION:Join us at the Fenway Community Center for another movie night with popcorn!  \nShare this:\n				Share on Facebook (Opens in new window)\n				Facebook\n			\n				Share on X (Opens in new window)\n				X\n			\n				Share on LinkedIn (Opens in new window)\n				LinkedIn\n			More\n				Email a link to a friend (Opens in new window)\n				Email
URL:https://fenwaycommunitycenter.org/calendar/center-cinema-11/
LOCATION:Fenway Community Center\, 1282 Boylston St #123\, Boston\, MA\, 02115\, United States
ATTACH;FMTTYPE=image/png:https://fenwaycommunitycenter.org/wp-content/uploads/2026/01/Jan-2026-Center-Cinema-Flyer-1.png
END:VEVENT
END:VCALENDAR