BEGIN:VCALENDAR
VERSION:2.0
PRODID:-//Fenway Community Center - ECPv6.15.20//NONSGML v1.0//EN
CALSCALE:GREGORIAN
METHOD:PUBLISH
X-WR-CALNAME:Fenway Community Center
X-ORIGINAL-URL:https://fenwaycommunitycenter.org
X-WR-CALDESC:Events for Fenway Community Center
REFRESH-INTERVAL;VALUE=DURATION:PT1H
X-Robots-Tag:noindex
X-PUBLISHED-TTL:PT1H
BEGIN:VTIMEZONE
TZID:America/New_York
BEGIN:DAYLIGHT
TZOFFSETFROM:-0500
TZOFFSETTO:-0400
TZNAME:EDT
DTSTART:20250309T070000
END:DAYLIGHT
BEGIN:STANDARD
TZOFFSETFROM:-0400
TZOFFSETTO:-0500
TZNAME:EST
DTSTART:20251102T060000
END:STANDARD
BEGIN:DAYLIGHT
TZOFFSETFROM:-0500
TZOFFSETTO:-0400
TZNAME:EDT
DTSTART:20260308T070000
END:DAYLIGHT
BEGIN:STANDARD
TZOFFSETFROM:-0400
TZOFFSETTO:-0500
TZNAME:EST
DTSTART:20261101T060000
END:STANDARD
BEGIN:DAYLIGHT
TZOFFSETFROM:-0500
TZOFFSETTO:-0400
TZNAME:EDT
DTSTART:20270314T070000
END:DAYLIGHT
BEGIN:STANDARD
TZOFFSETFROM:-0400
TZOFFSETTO:-0500
TZNAME:EST
DTSTART:20271107T060000
END:STANDARD
END:VTIMEZONE
BEGIN:VEVENT
DTSTART;TZID=America/New_York:20260129T103000
DTEND;TZID=America/New_York:20260129T113000
DTSTAMP:20260423T053305
CREATED:20251125T171627Z
LAST-MODIFIED:20251217T201829Z
UID:10010550-1769682600-1769686200@fenwaycommunitycenter.org
SUMMARY:Video-Led Tai Chi
DESCRIPTION:Join the Center in some relaxing lunchtime video-led Tai Chi to reset and get ready for the rest of the week! Walk-ins welcome! \nShare this:\n				Share on Facebook (Opens in new window)\n				Facebook\n			\n				Share on X (Opens in new window)\n				X\n			\n				Share on LinkedIn (Opens in new window)\n				LinkedIn\n			More\n				Email a link to a friend (Opens in new window)\n				Email
URL:https://fenwaycommunitycenter.org/calendar/video-led-tai-chi-2/2026-01-29/
LOCATION:Fenway Community Center\, 1282 Boylston St #123\, Boston\, MA\, 02115\, United States
CATEGORIES:Health & Wellness
ATTACH;FMTTYPE=image/png:https://fenwaycommunitycenter.org/wp-content/uploads/2025/11/Dec-25-Video-Led-Tai-Chi-Flyer-.png
END:VEVENT
BEGIN:VEVENT
DTSTART;TZID=America/New_York:20260129T140000
DTEND;TZID=America/New_York:20260129T150000
DTSTAMP:20260423T053305
CREATED:20250528T183425Z
LAST-MODIFIED:20260128T153229Z
UID:10003186-1769695200-1769698800@fenwaycommunitycenter.org
SUMMARY:Tech Hour
DESCRIPTION:Join us in the Fenway Community Center for a dedicated Tech Help Hour. Use the Center’s computers and Wi-Fi to check your email or complete other tasks. Staff is here to help answer basic tech questions! Sign up here\, walk ins also welcome. Come and be productive with us! \nShare this:\n				Share on Facebook (Opens in new window)\n				Facebook\n			\n				Share on X (Opens in new window)\n				X\n			\n				Share on LinkedIn (Opens in new window)\n				LinkedIn\n			More\n				Email a link to a friend (Opens in new window)\n				Email
URL:https://fenwaycommunitycenter.org/calendar/tech-hour-3-2-2-2-2-2-2-2/2026-01-29/
LOCATION:Fenway Community Center\, 1282 Boylston St #123\, Boston\, MA\, 02115\, United States
ATTACH;FMTTYPE=image/png:https://fenwaycommunitycenter.org/wp-content/uploads/2024/11/UPDATED-Tech-Hour-2.png
END:VEVENT
BEGIN:VEVENT
DTSTART;TZID=America/New_York:20260129T150000
DTEND;TZID=America/New_York:20260129T163000
DTSTAMP:20260423T053305
CREATED:20260122T211617Z
LAST-MODIFIED:20260326T150114Z
UID:10011641-1769698800-1769704200@fenwaycommunitycenter.org
SUMMARY:Mahjong
DESCRIPTION:Join us for this fun & strategic tile-based game!  \nNo registration needed. \nShare this:\n				Share on Facebook (Opens in new window)\n				Facebook\n			\n				Share on X (Opens in new window)\n				X\n			\n				Share on LinkedIn (Opens in new window)\n				LinkedIn\n			More\n				Email a link to a friend (Opens in new window)\n				Email
URL:https://fenwaycommunitycenter.org/calendar/mahjong-6-2-2/2026-01-29/
LOCATION:Fenway Community Center\, 1282 Boylston St #123\, Boston\, MA\, 02115\, United States
CATEGORIES:All Ages,Art & Culture
ATTACH;FMTTYPE=image/png:https://fenwaycommunitycenter.org/wp-content/uploads/2025/04/online-.png
END:VEVENT
BEGIN:VEVENT
DTSTART;TZID=America/New_York:20260129T150000
DTEND;TZID=America/New_York:20260129T170000
DTSTAMP:20260423T053305
CREATED:20260106T221253Z
LAST-MODIFIED:20260106T221253Z
UID:10010791-1769698800-1769706000@fenwaycommunitycenter.org
SUMMARY:Homework Help and Afterschool Space
DESCRIPTION:What we provide: \n\nHomework help\nA safe place to hang out after school\n\nChildren 7+ can attend without a parent present *if the waiver has been filled out – linked here*.  \nContact Ciara at ciara@fenwaycommunitycenter.org with questions. \nShare this:\n				Share on Facebook (Opens in new window)\n				Facebook\n			\n				Share on X (Opens in new window)\n				X\n			\n				Share on LinkedIn (Opens in new window)\n				LinkedIn\n			More\n				Email a link to a friend (Opens in new window)\n				Email
URL:https://fenwaycommunitycenter.org/calendar/homework-help-and-afterschool-space/2026-01-29/
LOCATION:Fenway Community Center\, 1282 Boylston St #123\, Boston\, MA\, 02115\, United States
CATEGORIES:Youth & Family
ATTACH;FMTTYPE=image/png:https://fenwaycommunitycenter.org/wp-content/uploads/2026/01/After-School-Program-Flyer-1.png
END:VEVENT
END:VCALENDAR