BEGIN:VCALENDAR
VERSION:2.0
PRODID:-//Fenway Community Center - ECPv6.15.20//NONSGML v1.0//EN
CALSCALE:GREGORIAN
METHOD:PUBLISH
X-ORIGINAL-URL:https://fenwaycommunitycenter.org
X-WR-CALDESC:Events for Fenway Community Center
REFRESH-INTERVAL;VALUE=DURATION:PT1H
X-Robots-Tag:noindex
X-PUBLISHED-TTL:PT1H
BEGIN:VTIMEZONE
TZID:America/New_York
BEGIN:DAYLIGHT
TZOFFSETFROM:-0500
TZOFFSETTO:-0400
TZNAME:EDT
DTSTART:20250309T070000
END:DAYLIGHT
BEGIN:STANDARD
TZOFFSETFROM:-0400
TZOFFSETTO:-0500
TZNAME:EST
DTSTART:20251102T060000
END:STANDARD
BEGIN:DAYLIGHT
TZOFFSETFROM:-0500
TZOFFSETTO:-0400
TZNAME:EDT
DTSTART:20260308T070000
END:DAYLIGHT
BEGIN:STANDARD
TZOFFSETFROM:-0400
TZOFFSETTO:-0500
TZNAME:EST
DTSTART:20261101T060000
END:STANDARD
BEGIN:DAYLIGHT
TZOFFSETFROM:-0500
TZOFFSETTO:-0400
TZNAME:EDT
DTSTART:20270314T070000
END:DAYLIGHT
BEGIN:STANDARD
TZOFFSETFROM:-0400
TZOFFSETTO:-0500
TZNAME:EST
DTSTART:20271107T060000
END:STANDARD
END:VTIMEZONE
BEGIN:VEVENT
DTSTART;TZID=America/New_York:20260217T103000
DTEND;TZID=America/New_York:20260217T123000
DTSTAMP:20260421T042322
CREATED:20260127T204023Z
LAST-MODIFIED:20260127T204023Z
UID:10011237-1771324200-1771331400@fenwaycommunitycenter.org
SUMMARY:Movie Matinee & Craft
DESCRIPTION:Join us during Boston Public School’s vacation week for a rated PG movie (a 2025 liveaction adventure/fantasy film based on a popular video game)\, snack\, and a themed craft. Register for a free ticket here. \nOutside snacks are also welcome. All are welcome. As the only dedicated Community Center in Fenway\, we give first priority to residents of the Fenway Neighborhood (02215 + 02115 zip codes). \nShare this:\n				Share on Facebook (Opens in new window)\n				Facebook\n			\n				Share on X (Opens in new window)\n				X\n			\n				Share on LinkedIn (Opens in new window)\n				LinkedIn\n			More\n				Email a link to a friend (Opens in new window)\n				Email
URL:https://fenwaycommunitycenter.org/calendar/movie-matinee-craft/
LOCATION:Fenway Community Center\, 1282 Boylston St #123\, Boston\, MA\, 02115\, United States
CATEGORIES:Youth & Family
ATTACH;FMTTYPE=image/png:https://fenwaycommunitycenter.org/wp-content/uploads/2026/01/online-minecraft.png
END:VEVENT
BEGIN:VEVENT
DTSTART;TZID=America/New_York:20260217T170000
DTEND;TZID=America/New_York:20260217T180000
DTSTAMP:20260421T042322
CREATED:20260105T214447Z
LAST-MODIFIED:20260302T162722Z
UID:10010804-1771347600-1771351200@fenwaycommunitycenter.org
SUMMARY:Slow Flow Yoga
DESCRIPTION:Join us at the Center for some guided instructional slow flow yoga with the Boston Yoga Collaborative. No experience needed. Please note this class will include floor exercises on a mat (mat included). This program is thanks to the generous support of Berklee College of Music. \nWalk-ins welcome or register here. \nShare this:\n				Share on Facebook (Opens in new window)\n				Facebook\n			\n				Share on X (Opens in new window)\n				X\n			\n				Share on LinkedIn (Opens in new window)\n				LinkedIn\n			More\n				Email a link to a friend (Opens in new window)\n				Email
URL:https://fenwaycommunitycenter.org/calendar/slow-flow-yoga-7/2026-02-17/
LOCATION:Fenway Community Center\, 1282 Boylston St #123\, Boston\, MA\, 02115\, United States
CATEGORIES:Health & Wellness
ATTACH;FMTTYPE=image/png:https://fenwaycommunitycenter.org/wp-content/uploads/2026/01/Digitial.png
END:VEVENT
BEGIN:VEVENT
DTSTART;TZID=America/New_York:20260217T180000
DTEND;TZID=America/New_York:20260217T200000
DTSTAMP:20260421T042322
CREATED:20260120T183957Z
LAST-MODIFIED:20260205T222532Z
UID:10010911-1771351200-1771358400@fenwaycommunitycenter.org
SUMMARY:Textile Workshop w/Erica - Felt Lanterns
DESCRIPTION:Join us in creating felt lanterns to celebrate the lunar new year! \nShare this:\n				Share on Facebook (Opens in new window)\n				Facebook\n			\n				Share on X (Opens in new window)\n				X\n			\n				Share on LinkedIn (Opens in new window)\n				LinkedIn\n			More\n				Email a link to a friend (Opens in new window)\n				Email
URL:https://fenwaycommunitycenter.org/calendar/textile-workshop-w-erica/
LOCATION:Fenway Community Center\, 1282 Boylston St #123\, Boston\, MA\, 02115\, United States
ATTACH;FMTTYPE=image/png:https://fenwaycommunitycenter.org/wp-content/uploads/2026/01/Feb-Textile-Workshop-Felt-Lanterns.png
END:VEVENT
END:VCALENDAR