BEGIN:VCALENDAR
VERSION:2.0
PRODID:-//Fenway Community Center - ECPv6.15.20//NONSGML v1.0//EN
CALSCALE:GREGORIAN
METHOD:PUBLISH
X-WR-CALNAME:Fenway Community Center
X-ORIGINAL-URL:https://fenwaycommunitycenter.org
X-WR-CALDESC:Events for Fenway Community Center
REFRESH-INTERVAL;VALUE=DURATION:PT1H
X-Robots-Tag:noindex
X-PUBLISHED-TTL:PT1H
BEGIN:VTIMEZONE
TZID:America/New_York
BEGIN:DAYLIGHT
TZOFFSETFROM:-0500
TZOFFSETTO:-0400
TZNAME:EDT
DTSTART:20240310T070000
END:DAYLIGHT
BEGIN:STANDARD
TZOFFSETFROM:-0400
TZOFFSETTO:-0500
TZNAME:EST
DTSTART:20241103T060000
END:STANDARD
BEGIN:DAYLIGHT
TZOFFSETFROM:-0500
TZOFFSETTO:-0400
TZNAME:EDT
DTSTART:20250309T070000
END:DAYLIGHT
BEGIN:STANDARD
TZOFFSETFROM:-0400
TZOFFSETTO:-0500
TZNAME:EST
DTSTART:20251102T060000
END:STANDARD
BEGIN:DAYLIGHT
TZOFFSETFROM:-0500
TZOFFSETTO:-0400
TZNAME:EDT
DTSTART:20260308T070000
END:DAYLIGHT
BEGIN:STANDARD
TZOFFSETFROM:-0400
TZOFFSETTO:-0500
TZNAME:EST
DTSTART:20261101T060000
END:STANDARD
END:VTIMEZONE
BEGIN:VEVENT
DTSTART;TZID=America/New_York:20250128T170000
DTEND;TZID=America/New_York:20250128T190000
DTSTAMP:20260422T095334
CREATED:20241217T202924Z
LAST-MODIFIED:20241217T202924Z
UID:10007040-1738083600-1738090800@fenwaycommunitycenter.org
SUMMARY:Watercolor Winter Painting w Eli Portman*
DESCRIPTION:Fenway Studios artist Eli Portman leads an all levels watercolor class. All materials are provided! Click here to sign up! \nShare this:\n				Share on Facebook (Opens in new window)\n				Facebook\n			\n				Share on X (Opens in new window)\n				X\n			\n				Share on LinkedIn (Opens in new window)\n				LinkedIn\n			More\n				Email a link to a friend (Opens in new window)\n				Email
URL:https://fenwaycommunitycenter.org/calendar/watercolor-winter-painting-w-eli-portman/
LOCATION:Fenway Community Center\, 1282 Boylston St #123\, Boston\, MA\, 02115\, United States
ATTACH;FMTTYPE=image/png:https://fenwaycommunitycenter.org/wp-content/uploads/2024/12/Eli-Portman-Watercolor-12025_FCC-1.png
END:VEVENT
BEGIN:VEVENT
DTSTART;TZID=America/New_York:20250127T173000
DTEND;TZID=America/New_York:20250127T183000
DTSTAMP:20260422T095334
CREATED:20250103T031720Z
LAST-MODIFIED:20250103T203746Z
UID:10007076-1737999000-1738002600@fenwaycommunitycenter.org
SUMMARY:Private Event
DESCRIPTION:Share this:\n				Share on Facebook (Opens in new window)\n				Facebook\n			\n				Share on X (Opens in new window)\n				X\n			\n				Share on LinkedIn (Opens in new window)\n				LinkedIn\n			More\n				Email a link to a friend (Opens in new window)\n				Email
URL:https://fenwaycommunitycenter.org/calendar/private-event-8/2025-01-27/
LOCATION:Fenway Community Center\, 1282 Boylston St #123\, Boston\, MA\, 02115\, United States
CATEGORIES:Private Program
END:VEVENT
BEGIN:VEVENT
DTSTART;TZID=America/New_York:20250127T130000
DTEND;TZID=America/New_York:20250127T140000
DTSTAMP:20260422T095334
CREATED:20250124T184437Z
LAST-MODIFIED:20251028T194937Z
UID:10001796-1737982800-1737986400@fenwaycommunitycenter.org
SUMMARY:Lunchtime Lettering
DESCRIPTION:This is an informal event that consists of spending lunch together (outside food welcome) and learning how to do calligraphy! Let us know by either a dm or email (hello@fenwaycommunitycenter.org) if you are planning to attend. \nShare this:\n				Share on Facebook (Opens in new window)\n				Facebook\n			\n				Share on X (Opens in new window)\n				X\n			\n				Share on LinkedIn (Opens in new window)\n				LinkedIn\n			More\n				Email a link to a friend (Opens in new window)\n				Email
URL:https://fenwaycommunitycenter.org/calendar/lunchtime-lettering-2-2-2/2025-01-27/
LOCATION:Fenway Community Center\, 1282 Boylston St #123\, Boston\, MA\, 02115\, United States
ATTACH;FMTTYPE=image/png:https://fenwaycommunitycenter.org/wp-content/uploads/2024/02/Lunchtime-Lettering-Lounge-Instagram-Post.png
END:VEVENT
BEGIN:VEVENT
DTSTART;TZID=America/New_York:20250125T150000
DTEND;TZID=America/New_York:20250125T170000
DTSTAMP:20260422T095334
CREATED:20241231T192043Z
LAST-MODIFIED:20241231T193547Z
UID:10007071-1737817200-1737824400@fenwaycommunitycenter.org
SUMMARY:Paint Nite with Lydia
DESCRIPTION:Join us for a Paint Nite instructed by professional artist Lydia Jane. Click here to sign up! \nShare this:\n				Share on Facebook (Opens in new window)\n				Facebook\n			\n				Share on X (Opens in new window)\n				X\n			\n				Share on LinkedIn (Opens in new window)\n				LinkedIn\n			More\n				Email a link to a friend (Opens in new window)\n				Email
URL:https://fenwaycommunitycenter.org/calendar/paint-nite-with-lydia-4/
LOCATION:Fenway Community Center\, 1282 Boylston St #123\, Boston\, MA\, 02115\, United States
CATEGORIES:Art & Culture
ATTACH;FMTTYPE=image/png:https://fenwaycommunitycenter.org/wp-content/uploads/2024/12/January-2025-Paint-Nite-w-Lydia-Jane.png
END:VEVENT
BEGIN:VEVENT
DTSTART;TZID=America/New_York:20250124T080000
DTEND;TZID=America/New_York:20250124T170000
DTSTAMP:20260422T095334
CREATED:20241217T200110Z
LAST-MODIFIED:20250204T204031Z
UID:10006986-1737705600-1737738000@fenwaycommunitycenter.org
SUMMARY:Drop-In Playgroup
DESCRIPTION:Meet other families while letting your child play in a safe space! \nShare this:\n				Share on Facebook (Opens in new window)\n				Facebook\n			\n				Share on X (Opens in new window)\n				X\n			\n				Share on LinkedIn (Opens in new window)\n				LinkedIn\n			More\n				Email a link to a friend (Opens in new window)\n				Email
URL:https://fenwaycommunitycenter.org/calendar/drop-in-playgroup-7/2025-01-24/
LOCATION:Fenway Community Center\, 1282 Boylston St #123\, Boston\, MA\, 02115\, United States
CATEGORIES:Youth & Family
ATTACH;FMTTYPE=image/png:https://fenwaycommunitycenter.org/wp-content/uploads/2025/01/2025-Fenway-Playgroup-Fridays-flyer.png
END:VEVENT
BEGIN:VEVENT
DTSTART;TZID=America/New_York:20250123T170000
DTEND;TZID=America/New_York:20250123T190000
DTSTAMP:20260422T095334
CREATED:20250113T231440Z
LAST-MODIFIED:20250113T231500Z
UID:10007105-1737651600-1737658800@fenwaycommunitycenter.org
SUMMARY:Meet Your Neighbors!
DESCRIPTION:Stop by to meet some of your fellow Fenwickian neighbors\, play games\, and socialize! You can sign up here to let us know you are coming. \n\nShare this:\n				Share on Facebook (Opens in new window)\n				Facebook\n			\n				Share on X (Opens in new window)\n				X\n			\n				Share on LinkedIn (Opens in new window)\n				LinkedIn\n			More\n				Email a link to a friend (Opens in new window)\n				Email
URL:https://fenwaycommunitycenter.org/calendar/meet-your-neighbors/
LOCATION:Fenway Community Center\, 1282 Boylston St #123\, Boston\, MA\, 02115\, United States
ATTACH;FMTTYPE=image/png:https://fenwaycommunitycenter.org/wp-content/uploads/2025/01/Meet-Your-Neighbors-FLYER.png
END:VEVENT
BEGIN:VEVENT
DTSTART;TZID=America/New_York:20250122T180000
DTEND;TZID=America/New_York:20250122T200000
DTSTAMP:20260422T095334
CREATED:20241217T213142Z
LAST-MODIFIED:20241217T213142Z
UID:10007048-1737568800-1737576000@fenwaycommunitycenter.org
SUMMARY:Game Night
DESCRIPTION:Join us for a night of friendly competition and fun! Snacks and drinks will be provided. Bring your friends! Click here to sign up\, walk ins also welcome! \nShare this:\n				Share on Facebook (Opens in new window)\n				Facebook\n			\n				Share on X (Opens in new window)\n				X\n			\n				Share on LinkedIn (Opens in new window)\n				LinkedIn\n			More\n				Email a link to a friend (Opens in new window)\n				Email
URL:https://fenwaycommunitycenter.org/calendar/game-night-15/
LOCATION:Fenway Community Center\, 1282 Boylston St #123\, Boston\, MA\, 02115\, United States
ATTACH;FMTTYPE=image/png:https://fenwaycommunitycenter.org/wp-content/uploads/2024/12/Game-Night-1.png
END:VEVENT
BEGIN:VEVENT
DTSTART;TZID=America/New_York:20250122T150000
DTEND;TZID=America/New_York:20250122T170000
DTSTAMP:20260422T095334
CREATED:20241231T201505Z
LAST-MODIFIED:20241231T201505Z
UID:10007074-1737558000-1737565200@fenwaycommunitycenter.org
SUMMARY:Chinese New Year Crafting!
DESCRIPTION:Join us for an open craft session in celebration of the Chinese New Year! \nShare this:\n				Share on Facebook (Opens in new window)\n				Facebook\n			\n				Share on X (Opens in new window)\n				X\n			\n				Share on LinkedIn (Opens in new window)\n				LinkedIn\n			More\n				Email a link to a friend (Opens in new window)\n				Email
URL:https://fenwaycommunitycenter.org/calendar/chinese-new-year-crafting/
LOCATION:Fenway Community Center\, 1282 Boylston St #123\, Boston\, MA\, 02115\, United States
ATTACH;FMTTYPE=image/png:https://fenwaycommunitycenter.org/wp-content/uploads/2024/12/Chinese-New-Year-crafting.png
END:VEVENT
BEGIN:VEVENT
DTSTART;TZID=America/New_York:20250121T180000
DTEND;TZID=America/New_York:20250121T200000
DTSTAMP:20260422T095334
CREATED:20241217T220819Z
LAST-MODIFIED:20250117T163233Z
UID:10007050-1737482400-1737489600@fenwaycommunitycenter.org
SUMMARY:Textile Fix It w/ Erica*
DESCRIPTION:Share this:\n				Share on Facebook (Opens in new window)\n				Facebook\n			\n				Share on X (Opens in new window)\n				X\n			\n				Share on LinkedIn (Opens in new window)\n				LinkedIn\n			More\n				Email a link to a friend (Opens in new window)\n				Email
URL:https://fenwaycommunitycenter.org/calendar/textile-fix-it-w-erica/
LOCATION:Fenway Community Center\, 1282 Boylston St #123\, Boston\, MA\, 02115\, United States
ATTACH;FMTTYPE=image/png:https://fenwaycommunitycenter.org/wp-content/uploads/2024/12/Textile-Workshops-1.png
END:VEVENT
BEGIN:VEVENT
DTSTART;TZID=America/New_York:20250121T153000
DTEND;TZID=America/New_York:20250121T170000
DTSTAMP:20260422T095334
CREATED:20241217T205328Z
LAST-MODIFIED:20241217T205328Z
UID:10007042-1737473400-1737478800@fenwaycommunitycenter.org
SUMMARY:Women's Wellness Group
DESCRIPTION:Join us for a facilitated conversation with neighbors\, friends\, and peers about a variety of topics related to women’s health\, aging\, or whatever we want to share and explore together! \nShare this:\n				Share on Facebook (Opens in new window)\n				Facebook\n			\n				Share on X (Opens in new window)\n				X\n			\n				Share on LinkedIn (Opens in new window)\n				LinkedIn\n			More\n				Email a link to a friend (Opens in new window)\n				Email
URL:https://fenwaycommunitycenter.org/calendar/womens-wellness-group-6/
LOCATION:Fenway Community Center\, 1282 Boylston St #123\, Boston\, MA\, 02115\, United States
CATEGORIES:Health & Wellness
ATTACH;FMTTYPE=image/png:https://fenwaycommunitycenter.org/wp-content/uploads/2024/12/UPDATED-Womens-Wellness-Group.png
END:VEVENT
BEGIN:VEVENT
DTSTART;VALUE=DATE:20250120
DTEND;VALUE=DATE:20250121
DTSTAMP:20260422T095334
CREATED:20241217T210230Z
LAST-MODIFIED:20241217T221352Z
UID:10007044-1737331200-1737417599@fenwaycommunitycenter.org
SUMMARY:CLOSED for Martin Luther King Jr Day
DESCRIPTION:Share this:\n				Share on Facebook (Opens in new window)\n				Facebook\n			\n				Share on X (Opens in new window)\n				X\n			\n				Share on LinkedIn (Opens in new window)\n				LinkedIn\n			More\n				Email a link to a friend (Opens in new window)\n				Email
URL:https://fenwaycommunitycenter.org/calendar/closed-for-holiday-3/
LOCATION:Fenway Community Center\, 1282 Boylston St #123\, Boston\, MA\, 02115\, United States
END:VEVENT
BEGIN:VEVENT
DTSTART;TZID=America/New_York:20250118T103000
DTEND;TZID=America/New_York:20250118T113000
DTSTAMP:20260422T095334
CREATED:20241231T190041Z
LAST-MODIFIED:20250104T145916Z
UID:10007060-1737196200-1737199800@fenwaycommunitycenter.org
SUMMARY:Little Groove
DESCRIPTION:Share this:\n				Share on Facebook (Opens in new window)\n				Facebook\n			\n				Share on X (Opens in new window)\n				X\n			\n				Share on LinkedIn (Opens in new window)\n				LinkedIn\n			More\n				Email a link to a friend (Opens in new window)\n				Email
URL:https://fenwaycommunitycenter.org/calendar/little-groove-5/2025-01-18/
LOCATION:Fenway Community Center\, 1282 Boylston St #123\, Boston\, MA\, 02115\, United States
END:VEVENT
BEGIN:VEVENT
DTSTART;TZID=America/New_York:20250117T113000
DTEND;TZID=America/New_York:20250117T123000
DTSTAMP:20260422T095334
CREATED:20250106T170101Z
LAST-MODIFIED:20250725T164726Z
UID:10007078-1737113400-1737117000@fenwaycommunitycenter.org
SUMMARY:Coffee Hour w/ Mayor's Liaison\, Maccon Bonner
DESCRIPTION:Join The Mayor’s Office of Neighborhood Services liaisons for weekly Coffee Hours! Take advantage of the opportunity to connect with your neighborhood liaison to receive support connecting with City departments\, addressing any concerns\, or just to say hello to connect joyfully. If you have any questions or concerns reach out to Maccon Bonner! \n\nShare this:\n				Share on Facebook (Opens in new window)\n				Facebook\n			\n				Share on X (Opens in new window)\n				X\n			\n				Share on LinkedIn (Opens in new window)\n				LinkedIn\n			More\n				Email a link to a friend (Opens in new window)\n				Email
URL:https://fenwaycommunitycenter.org/calendar/coffee-hour-w-mayors-liaison-maccon-bonner-4/2025-01-17/
LOCATION:Fenway Community Center\, 1282 Boylston St #123\, Boston\, MA\, 02115\, United States
ATTACH;FMTTYPE=image/jpeg:https://fenwaycommunitycenter.org/wp-content/uploads/2024/10/IMG_3605.jpg
END:VEVENT
BEGIN:VEVENT
DTSTART;TZID=America/New_York:20250117T080000
DTEND;TZID=America/New_York:20250117T170000
DTSTAMP:20260422T095334
CREATED:20241217T200110Z
LAST-MODIFIED:20250204T204031Z
UID:10006985-1737100800-1737133200@fenwaycommunitycenter.org
SUMMARY:Drop-In Playgroup
DESCRIPTION:Meet other families while letting your child play in a safe space! \nShare this:\n				Share on Facebook (Opens in new window)\n				Facebook\n			\n				Share on X (Opens in new window)\n				X\n			\n				Share on LinkedIn (Opens in new window)\n				LinkedIn\n			More\n				Email a link to a friend (Opens in new window)\n				Email
URL:https://fenwaycommunitycenter.org/calendar/drop-in-playgroup-7/2025-01-17/
LOCATION:Fenway Community Center\, 1282 Boylston St #123\, Boston\, MA\, 02115\, United States
CATEGORIES:Youth & Family
ATTACH;FMTTYPE=image/png:https://fenwaycommunitycenter.org/wp-content/uploads/2025/01/2025-Fenway-Playgroup-Fridays-flyer.png
END:VEVENT
BEGIN:VEVENT
DTSTART;TZID=America/New_York:20250116T180000
DTEND;TZID=America/New_York:20250116T193000
DTSTAMP:20260422T095334
CREATED:20241211T214707Z
LAST-MODIFIED:20250107T215249Z
UID:10006976-1737050400-1737055800@fenwaycommunitycenter.org
SUMMARY:FCDC Organizing Committee Meeting
DESCRIPTION:Join Fenway CDC for an Organizing Committee Meeting on Thursday\, January 16th from 6-7:30pm at the Fenway Community Center (1282 Boylston St)! We’ll be discussing a new campaign addressing institutional expansion and giving updates on our organizing work for housing justice. Dinner will be provided. Open to all!\nShare this:\n				Share on Facebook (Opens in new window)\n				Facebook\n			\n				Share on X (Opens in new window)\n				X\n			\n				Share on LinkedIn (Opens in new window)\n				LinkedIn\n			More\n				Email a link to a friend (Opens in new window)\n				Email
URL:https://fenwaycommunitycenter.org/calendar/fcdc-organizing-committee-meeting-10/
LOCATION:Fenway Community Center\, 1282 Boylston St #123\, Boston\, MA\, 02115\, United States
END:VEVENT
BEGIN:VEVENT
DTSTART;TZID=America/New_York:20250116T150000
DTEND;TZID=America/New_York:20250116T160000
DTSTAMP:20260422T095335
CREATED:20241217T212538Z
LAST-MODIFIED:20241217T212538Z
UID:10007046-1737039600-1737043200@fenwaycommunitycenter.org
SUMMARY:Instructed Slow Flow Yoga
DESCRIPTION:Join us for slow flow hour long yoga class led by an instructor here at the Center with neighbors and friends! No experience required and all materials provided! Click here to register\, walk ins are also welcome! \nShare this:\n				Share on Facebook (Opens in new window)\n				Facebook\n			\n				Share on X (Opens in new window)\n				X\n			\n				Share on LinkedIn (Opens in new window)\n				LinkedIn\n			More\n				Email a link to a friend (Opens in new window)\n				Email
URL:https://fenwaycommunitycenter.org/calendar/instructed-slow-flow-yoga/2025-01-16/
LOCATION:Fenway Community Center\, 1282 Boylston St #123\, Boston\, MA\, 02115\, United States
CATEGORIES:Health & Wellness
ATTACH;FMTTYPE=image/png:https://fenwaycommunitycenter.org/wp-content/uploads/2024/12/Instructed-Slow-Flow-Yoga.png
END:VEVENT
BEGIN:VEVENT
DTSTART;TZID=America/New_York:20250115T153000
DTEND;TZID=America/New_York:20250115T163000
DTSTAMP:20260422T095335
CREATED:20241029T172400Z
LAST-MODIFIED:20250204T182914Z
UID:10004603-1736955000-1736958600@fenwaycommunitycenter.org
SUMMARY:Fenway Cares Food Distribution (first come\, first serve)
DESCRIPTION:Fenway Cares (a collaboration of 6 neighborhood nonprofits) works with volunteers\, neighbors\, and supporters to offer a bi-weekly food distribution every other Wednesday at 3:30pm. There are a limited number of bags available – first come\, first served. \n  \nShare this:\n				Share on Facebook (Opens in new window)\n				Facebook\n			\n				Share on X (Opens in new window)\n				X\n			\n				Share on LinkedIn (Opens in new window)\n				LinkedIn\n			More\n				Email a link to a friend (Opens in new window)\n				Email
URL:https://fenwaycommunitycenter.org/calendar/fenway-cares-food-distribution-first-come-first-serve-2-2/2025-01-15/
LOCATION:Fenway Community Center\, 1282 Boylston St #123\, Boston\, MA\, 02115\, United States
END:VEVENT
BEGIN:VEVENT
DTSTART;TZID=America/New_York:20250114T180000
DTEND;TZID=America/New_York:20250114T200000
DTSTAMP:20260422T095335
CREATED:20241217T200629Z
LAST-MODIFIED:20241217T200629Z
UID:10007039-1736877600-1736884800@fenwaycommunitycenter.org
SUMMARY:Self Guided Knit & Crochet Night
DESCRIPTION:Join us for a cozy night of knitting & crocheting. The center will provide supplies as well as food and drinks. We welcome all skill levels! \nShare this:\n				Share on Facebook (Opens in new window)\n				Facebook\n			\n				Share on X (Opens in new window)\n				X\n			\n				Share on LinkedIn (Opens in new window)\n				LinkedIn\n			More\n				Email a link to a friend (Opens in new window)\n				Email
URL:https://fenwaycommunitycenter.org/calendar/self-guided-knit-crochet-night/
LOCATION:Fenway Community Center\, 1282 Boylston St #123\, Boston\, MA\, 02115\, United States
ATTACH;FMTTYPE=image/png:https://fenwaycommunitycenter.org/wp-content/uploads/2024/12/Knit-and-Crochet-Night.png
END:VEVENT
BEGIN:VEVENT
DTSTART;TZID=America/New_York:20250113T173000
DTEND;TZID=America/New_York:20250113T193000
DTSTAMP:20260422T095335
CREATED:20241231T201000Z
LAST-MODIFIED:20241231T201000Z
UID:10007073-1736789400-1736796600@fenwaycommunitycenter.org
SUMMARY:D.E.A.R. - Drop everything and read!
DESCRIPTION:D.E.A.R. – Drop everything and read! Find a good book to lose yourself in or choose a recommendation from our personal library. FREE coffee and tea on us! \nShare this:\n				Share on Facebook (Opens in new window)\n				Facebook\n			\n				Share on X (Opens in new window)\n				X\n			\n				Share on LinkedIn (Opens in new window)\n				LinkedIn\n			More\n				Email a link to a friend (Opens in new window)\n				Email
URL:https://fenwaycommunitycenter.org/calendar/d-e-a-r-drop-everything-and-read-2/
LOCATION:Fenway Community Center\, 1282 Boylston St #123\, Boston\, MA\, 02115\, United States
ATTACH;FMTTYPE=image/png:https://fenwaycommunitycenter.org/wp-content/uploads/2024/12/D.E.A.R.-1.png
END:VEVENT
BEGIN:VEVENT
DTSTART;TZID=America/New_York:20250113T130000
DTEND;TZID=America/New_York:20250113T140000
DTSTAMP:20260422T095335
CREATED:20241217T205740Z
LAST-MODIFIED:20250821T195239Z
UID:10001792-1736773200-1736776800@fenwaycommunitycenter.org
SUMMARY:Lunchtime Lettering
DESCRIPTION:This is an informal event that consists of spending lunch together (outside food welcome) and learning how to do calligraphy! Let us know by either a dm or email (hello@fenwaycommunitycenter.org) if you are planning to attend. \nShare this:\n				Share on Facebook (Opens in new window)\n				Facebook\n			\n				Share on X (Opens in new window)\n				X\n			\n				Share on LinkedIn (Opens in new window)\n				LinkedIn\n			More\n				Email a link to a friend (Opens in new window)\n				Email
URL:https://fenwaycommunitycenter.org/calendar/lunchtime-lettering-2-2/2025-01-13/
LOCATION:Fenway Community Center\, 1282 Boylston St #123\, Boston\, MA\, 02115\, United States
ATTACH;FMTTYPE=image/png:https://fenwaycommunitycenter.org/wp-content/uploads/2024/02/Lunchtime-Lettering-Lounge-Instagram-Post.png
END:VEVENT
BEGIN:VEVENT
DTSTART;TZID=America/New_York:20250111T103000
DTEND;TZID=America/New_York:20250111T233000
DTSTAMP:20260422T095335
CREATED:20241210T170211Z
LAST-MODIFIED:20241231T190531Z
UID:10007070-1736591400-1736638200@fenwaycommunitycenter.org
SUMMARY:Drop in Playgroup
DESCRIPTION:Meet other families while letting your child play in a safe space! \nShare this:\n				Share on Facebook (Opens in new window)\n				Facebook\n			\n				Share on X (Opens in new window)\n				X\n			\n				Share on LinkedIn (Opens in new window)\n				LinkedIn\n			More\n				Email a link to a friend (Opens in new window)\n				Email
URL:https://fenwaycommunitycenter.org/calendar/drop-in-playgroup-5/2025-01-11/
LOCATION:Fenway Community Center\, 1282 Boylston St #123\, Boston\, MA\, 02115\, United States
ATTACH;FMTTYPE=image/png:https://fenwaycommunitycenter.org/wp-content/uploads/2024/12/Whats-Happening-Dec-16th-to-21st-Real-Estate-Flyer-4.png
END:VEVENT
BEGIN:VEVENT
DTSTART;TZID=America/New_York:20250111T103000
DTEND;TZID=America/New_York:20250111T113000
DTSTAMP:20260422T095335
CREATED:20241231T190041Z
LAST-MODIFIED:20250104T145916Z
UID:10007077-1736591400-1736595000@fenwaycommunitycenter.org
SUMMARY:Little Groove
DESCRIPTION:Share this:\n				Share on Facebook (Opens in new window)\n				Facebook\n			\n				Share on X (Opens in new window)\n				X\n			\n				Share on LinkedIn (Opens in new window)\n				LinkedIn\n			More\n				Email a link to a friend (Opens in new window)\n				Email
URL:https://fenwaycommunitycenter.org/calendar/little-groove-5/2025-01-11/
LOCATION:Fenway Community Center\, 1282 Boylston St #123\, Boston\, MA\, 02115\, United States
END:VEVENT
BEGIN:VEVENT
DTSTART;TZID=America/New_York:20250110T080000
DTEND;TZID=America/New_York:20250110T170000
DTSTAMP:20260422T095335
CREATED:20241217T200110Z
LAST-MODIFIED:20250204T204031Z
UID:10006984-1736496000-1736528400@fenwaycommunitycenter.org
SUMMARY:Drop-In Playgroup
DESCRIPTION:Meet other families while letting your child play in a safe space! \nShare this:\n				Share on Facebook (Opens in new window)\n				Facebook\n			\n				Share on X (Opens in new window)\n				X\n			\n				Share on LinkedIn (Opens in new window)\n				LinkedIn\n			More\n				Email a link to a friend (Opens in new window)\n				Email
URL:https://fenwaycommunitycenter.org/calendar/drop-in-playgroup-7/2025-01-10/
LOCATION:Fenway Community Center\, 1282 Boylston St #123\, Boston\, MA\, 02115\, United States
CATEGORIES:Youth & Family
ATTACH;FMTTYPE=image/png:https://fenwaycommunitycenter.org/wp-content/uploads/2025/01/2025-Fenway-Playgroup-Fridays-flyer.png
END:VEVENT
BEGIN:VEVENT
DTSTART;TZID=America/New_York:20250109T180000
DTEND;TZID=America/New_York:20250109T193000
DTSTAMP:20260422T095335
CREATED:20241217T213254Z
LAST-MODIFIED:20241231T174503Z
UID:10007049-1736445600-1736451000@fenwaycommunitycenter.org
SUMMARY:Boston Baked Books
DESCRIPTION:Share this:\n				Share on Facebook (Opens in new window)\n				Facebook\n			\n				Share on X (Opens in new window)\n				X\n			\n				Share on LinkedIn (Opens in new window)\n				LinkedIn\n			More\n				Email a link to a friend (Opens in new window)\n				Email
URL:https://fenwaycommunitycenter.org/calendar/boston-baked-books-11/
LOCATION:Fenway Community Center\, 1282 Boylston St #123\, Boston\, MA\, 02115\, United States
END:VEVENT
BEGIN:VEVENT
DTSTART;TZID=America/New_York:20250108T180000
DTEND;TZID=America/New_York:20250108T200000
DTSTAMP:20260422T095335
CREATED:20241217T203941Z
LAST-MODIFIED:20241217T204018Z
UID:10007041-1736359200-1736366400@fenwaycommunitycenter.org
SUMMARY:Game Night
DESCRIPTION:Join us for a night of friendly competition and fun! Snacks and drinks will be provided. Bring your friends! Click here to sign up\, walk ins also welcome! \nShare this:\n				Share on Facebook (Opens in new window)\n				Facebook\n			\n				Share on X (Opens in new window)\n				X\n			\n				Share on LinkedIn (Opens in new window)\n				LinkedIn\n			More\n				Email a link to a friend (Opens in new window)\n				Email
URL:https://fenwaycommunitycenter.org/calendar/game-night-14/
LOCATION:Fenway Community Center\, 1282 Boylston St #123\, Boston\, MA\, 02115\, United States
ATTACH;FMTTYPE=image/png:https://fenwaycommunitycenter.org/wp-content/uploads/2024/12/Game-Night.png
END:VEVENT
BEGIN:VEVENT
DTSTART;TZID=America/New_York:20250108T140000
DTEND;TZID=America/New_York:20250108T160000
DTSTAMP:20260422T095335
CREATED:20241231T200235Z
LAST-MODIFIED:20241231T200235Z
UID:10007072-1736344800-1736352000@fenwaycommunitycenter.org
SUMMARY:Movie Matinee
DESCRIPTION:Join us to watch a period piece drama for Movie Matinee! Contact us at the hello@fenwaycommunitycenter.org for more info about the film. \nShare this:\n				Share on Facebook (Opens in new window)\n				Facebook\n			\n				Share on X (Opens in new window)\n				X\n			\n				Share on LinkedIn (Opens in new window)\n				LinkedIn\n			More\n				Email a link to a friend (Opens in new window)\n				Email
URL:https://fenwaycommunitycenter.org/calendar/movie-matinee/
LOCATION:Fenway Community Center\, 1282 Boylston St #123\, Boston\, MA\, 02115\, United States
ATTACH;FMTTYPE=image/png:https://fenwaycommunitycenter.org/wp-content/uploads/2024/12/FCC-Movie-Matinee-2024-flyer.png
END:VEVENT
BEGIN:VEVENT
DTSTART;TZID=America/New_York:20250107T160000
DTEND;TZID=America/New_York:20250107T180000
DTSTAMP:20260422T095335
CREATED:20241211T180741Z
LAST-MODIFIED:20250102T171536Z
UID:10006975-1736265600-1736272800@fenwaycommunitycenter.org
SUMMARY:Open Craft
DESCRIPTION:Come and join your neighbors and get creative! All supplies and materials included! Click here to sign up and let us know you’re coming! \nShare this:\n				Share on Facebook (Opens in new window)\n				Facebook\n			\n				Share on X (Opens in new window)\n				X\n			\n				Share on LinkedIn (Opens in new window)\n				LinkedIn\n			More\n				Email a link to a friend (Opens in new window)\n				Email
URL:https://fenwaycommunitycenter.org/calendar/open-craft-2/
LOCATION:Fenway Community Center\, 1282 Boylston St #123\, Boston\, MA\, 02115\, United States
ATTACH;FMTTYPE=image/png:https://fenwaycommunitycenter.org/wp-content/uploads/2024/12/Open-Craft.png
END:VEVENT
BEGIN:VEVENT
DTSTART;TZID=America/New_York:20250106T190000
DTEND;TZID=America/New_York:20250106T203000
DTSTAMP:20260422T095335
CREATED:20241217T195311Z
LAST-MODIFIED:20241217T195311Z
UID:10006982-1736190000-1736195400@fenwaycommunitycenter.org
SUMMARY:Private Event
DESCRIPTION:Share this:\n				Share on Facebook (Opens in new window)\n				Facebook\n			\n				Share on X (Opens in new window)\n				X\n			\n				Share on LinkedIn (Opens in new window)\n				LinkedIn\n			More\n				Email a link to a friend (Opens in new window)\n				Email
URL:https://fenwaycommunitycenter.org/calendar/private-event-7/
LOCATION:Fenway Community Center\, 1282 Boylston St #123\, Boston\, MA\, 02115\, United States
CATEGORIES:Private Program
END:VEVENT
BEGIN:VEVENT
DTSTART;TZID=America/New_York:20250106T173000
DTEND;TZID=America/New_York:20250106T183000
DTSTAMP:20260422T095335
CREATED:20250103T031720Z
LAST-MODIFIED:20250103T203746Z
UID:10007075-1736184600-1736188200@fenwaycommunitycenter.org
SUMMARY:Private Event
DESCRIPTION:Share this:\n				Share on Facebook (Opens in new window)\n				Facebook\n			\n				Share on X (Opens in new window)\n				X\n			\n				Share on LinkedIn (Opens in new window)\n				LinkedIn\n			More\n				Email a link to a friend (Opens in new window)\n				Email
URL:https://fenwaycommunitycenter.org/calendar/private-event-8/2025-01-06/
LOCATION:Fenway Community Center\, 1282 Boylston St #123\, Boston\, MA\, 02115\, United States
CATEGORIES:Private Program
END:VEVENT
BEGIN:VEVENT
DTSTART;TZID=America/New_York:20250106T130000
DTEND;TZID=America/New_York:20250106T140000
DTSTAMP:20260422T095335
CREATED:20241217T205740Z
LAST-MODIFIED:20250821T195239Z
UID:10001790-1736168400-1736172000@fenwaycommunitycenter.org
SUMMARY:Lunchtime Lettering
DESCRIPTION:This is an informal event that consists of spending lunch together (outside food welcome) and learning how to do calligraphy! Let us know by either a dm or email (hello@fenwaycommunitycenter.org) if you are planning to attend. \nShare this:\n				Share on Facebook (Opens in new window)\n				Facebook\n			\n				Share on X (Opens in new window)\n				X\n			\n				Share on LinkedIn (Opens in new window)\n				LinkedIn\n			More\n				Email a link to a friend (Opens in new window)\n				Email
URL:https://fenwaycommunitycenter.org/calendar/lunchtime-lettering-2-2/2025-01-06/
LOCATION:Fenway Community Center\, 1282 Boylston St #123\, Boston\, MA\, 02115\, United States
ATTACH;FMTTYPE=image/png:https://fenwaycommunitycenter.org/wp-content/uploads/2024/02/Lunchtime-Lettering-Lounge-Instagram-Post.png
END:VEVENT
END:VCALENDAR